BEGIN:VCALENDAR
VERSION:2.0
PRODID:-//Capital Stewardship of America,Business Consultant in Houston - ECPv6.10.1.1//NONSGML v1.0//EN
CALSCALE:GREGORIAN
METHOD:PUBLISH
X-ORIGINAL-URL:https://capitalstewardship.org
X-WR-CALDESC:Events for Capital Stewardship of America,Business Consultant in Houston
REFRESH-INTERVAL;VALUE=DURATION:PT1H
X-Robots-Tag:noindex
X-PUBLISHED-TTL:PT1H
BEGIN:VTIMEZONE
TZID:UTC
BEGIN:STANDARD
TZOFFSETFROM:+0000
TZOFFSETTO:+0000
TZNAME:UTC
DTSTART:20250101T000000
END:STANDARD
END:VTIMEZONE
BEGIN:VEVENT
DTSTART;TZID=UTC:20250808T150000
DTEND;TZID=UTC:20250808T190000
DTSTAMP:20260426T042132
CREATED:20250714T095613Z
LAST-MODIFIED:20250714T100839Z
UID:28716-1754665200-1754679600@capitalstewardship.org
SUMMARY:Summer Cocktail Party
DESCRIPTION:
URL:https://capitalstewardship.org/event/summer-cocktail-party/
LOCATION:51FIFTEEN IN SAKS 5 TH AVE GALLERIA\, 5175 Westheimer Rd\, Saks 5th Ave\, Houston\, TX\, United States
ORGANIZER;CN="Capital Stewardship of America":MAILTO:support@capitalstewardship.org
END:VEVENT
BEGIN:VEVENT
DTSTART;TZID=UTC:20250820T100000
DTEND;TZID=UTC:20250820T110000
DTSTAMP:20260426T042132
CREATED:20250725T051350Z
LAST-MODIFIED:20250725T051350Z
UID:28766-1755684000-1755687600@capitalstewardship.org
SUMMARY:Increase Your Revenue with AI
DESCRIPTION:
URL:https://capitalstewardship.org/event/increase-your-revenue-with-ai/
ORGANIZER;CN="Capital Stewardship of America":MAILTO:support@capitalstewardship.org
END:VEVENT
END:VCALENDAR